BEGIN:VCALENDAR
VERSION:2.0
PRODID:Events Booking
BEGIN:VEVENT
UID:69e7472a4721b
SUMMARY:NLP Master Practitioner Certification Training Coaching Focus Apr 2
 026
DESCRIPTION:
DTSTART:20260330T153000Z
DTEND:20260508T182500Z
DTSTAMP:20260421T094514Z
ORGANIZER;CN=Anil Dagia:MAILTO:info@anildagia.com
END:VEVENT
END:VCALENDAR