BEGIN:VCALENDAR
VERSION:2.0
PRODID:Events Booking
BEGIN:VEVENT
UID:69e90c3d420c2
SUMMARY:ICF Accredited Life Transformation Coach - For ACC 75 hours Level 1
  Jul 2027
DESCRIPTION:
DTSTART:20270705T153000Z
DTEND:20270827T182500Z
DTSTAMP:20260422T175821Z
ORGANIZER;CN=Anil Dagia:MAILTO:info@anildagia.com
END:VEVENT
END:VCALENDAR